BEGIN:VCALENDAR
VERSION:2.0
PRODID:Spatie calendar-links
BEGIN:VEVENT
UID:6daccbc7a97efb4ca350985d92f6bc01
SUMMARY:NATION WIDE DEMONSTRATION - TRUDEAU MUST GO
DTSTAMP;TZID=America/Los_Angeles:20221210T110000
DTSTART;TZID=America/Los_Angeles:20221210T110000
DTEND;TZID=America/Los_Angeles:20221210T140000
LOCATION:750 Hornby Street\, Vancouver\, British Columbia\, Canada
END:VEVENT
END:VCALENDAR