BEGIN:VCALENDAR
VERSION:2.0
PRODID:Spatie calendar-links
BEGIN:VEVENT
UID:3fd13bc06d96481b23dd4134a27492ac
SUMMARY:#TRUDEAUMUSTGO
DTSTAMP;TZID=America/Los_Angeles:20221210T130000
DTSTART;TZID=America/Los_Angeles:20221210T130000
DTEND;TZID=America/Los_Angeles:20221210T160000
LOCATION:Vancouver Art Gallery 750 Hornby St\, Vancouver\, BC\, Canada
END:VEVENT
END:VCALENDAR