BEGIN:VCALENDAR
VERSION:2.0
PRODID:Spatie calendar-links
BEGIN:VEVENT
UID:827f44ac7fac9481f0989800684f36a5
SUMMARY:UNMASKING THE TRUTH - Fundraiser 
DTSTAMP;TZID=America/Los_Angeles:20221126T180000
DTSTART;TZID=America/Los_Angeles:20221126T180000
DTEND;TZID=America/Los_Angeles:20221126T220000
LOCATION:1943 Cornwall Avenue\, Vancouver\, British Columbia\, Canada
END:VEVENT
END:VCALENDAR