BEGIN:VCALENDAR
VERSION:2.0
PRODID:Spatie calendar-links
BEGIN:VEVENT
UID:f7e6f7561b8d9c7d40ad08fc1d6bd542
SUMMARY:Oppose Bill 36
DTSTAMP;TZID=America/Los_Angeles:20221123T100000
DTSTART;TZID=America/Los_Angeles:20221123T100000
DTEND;TZID=America/Los_Angeles:20221125T140000
LOCATION:501 Belleville Street\, Victoria\, BC\, Canada
END:VEVENT
END:VCALENDAR