BEGIN:VCALENDAR
VERSION:2.0
PRODID:Spatie calendar-links
BEGIN:VEVENT
UID:b22b6be676a8eac42e07ba898e2bd8f5
SUMMARY:Cranbrook BC - WORLDWIDE RALLY MARCH 20TH\, 2021
DTSTAMP;TZID=America/Vancouver:20210320T120000
DTSTART;TZID=America/Vancouver:20210320T120000
DTEND;TZID=America/Vancouver:20210320T150000
LOCATION:800 Baker Street\, Cranbrook\, BC\, Canada
END:VEVENT
END:VCALENDAR