BEGIN:VCALENDAR
VERSION:2.0
PRODID:Spatie calendar-links
BEGIN:VEVENT
UID:4b9ed88990c38b64f21b32796d5f3547
SUMMARY:Walk n Talk
DTSTAMP;TZID=Australia/Sydney:20221203T000000
DTSTART;TZID=Australia/Sydney:20221203T000000
DTEND;TZID=Australia/Sydney:20230929T230000
END:VEVENT
END:VCALENDAR