BEGIN:VCALENDAR
VERSION:2.0
PRODID:Spatie calendar-links
BEGIN:VEVENT
UID:052c308a941299951faa0195ee4d63f2
SUMMARY:The Light Winter Festival
DTSTAMP;TZID=America/Los_Angeles:20221203T200000
DTSTART;TZID=America/Los_Angeles:20221203T200000
DTEND;TZID=America/Los_Angeles:20221203T230000
LOCATION:1109 Commercial Dr\, Vancouver\, BC\, Canada
END:VEVENT
END:VCALENDAR