BEGIN:VCALENDAR
VERSION:2.0
PRODID:Spatie calendar-links
BEGIN:VEVENT
UID:89386be4a08190366fa060882f7180c3
SUMMARY:Pop-Up On The Square: Free Holiday Pop-Up Market
DTSTAMP;TZID=America/Los_Angeles:20221210T130000
DTSTART;TZID=America/Los_Angeles:20221210T130000
DTEND;TZID=America/Los_Angeles:20221210T210000
LOCATION:750 Hornby Street\, Vancouver\, British Columbia\, Canada
END:VEVENT
END:VCALENDAR