BEGIN:VCALENDAR
VERSION:2.0
PRODID:Spatie calendar-links
BEGIN:VEVENT
UID:f6e45ebea70590a35eb8927910d24bd4
SUMMARY:Let Freedom Reign Tour
DTSTAMP;TZID=America/Los_Angeles:20221207T190000
DTSTART;TZID=America/Los_Angeles:20221207T190000
DTEND;TZID=America/Los_Angeles:20221207T220000
LOCATION:3250 Commerical Drive\, Vancouver\, British Columbia\, Canada
END:VEVENT
END:VCALENDAR