BEGIN:VCALENDAR
VERSION:2.0
PRODID:Spatie calendar-links
BEGIN:VEVENT
UID:6d7b12d1276248c9cb1ad9492b02f55c
SUMMARY:The People Say NO to Bill 36
DTSTAMP;TZID=America/Los_Angeles:20230118T120000
DTSTART;TZID=America/Los_Angeles:20230118T120000
DTEND;TZID=America/Los_Angeles:20230118T150000
LOCATION:2909 W Broadway\, Vancouver\, BC\, Canada
END:VEVENT
END:VCALENDAR