BEGIN:VCALENDAR
VERSION:2.0
PRODID:Spatie calendar-links
BEGIN:VEVENT
UID:d5426b82fa905b73e07bbabe69996dc7
SUMMARY:World Wide Rally For Freedom 11.0
DTSTAMP;TZID=America/Los_Angeles:20230218T120000
DTSTART;TZID=America/Los_Angeles:20230218T120000
DTEND;TZID=America/Los_Angeles:20230218T160000
LOCATION:969 Robson Street\, Vancouver\, BC\, Canada
END:VEVENT
END:VCALENDAR