BEGIN:VCALENDAR
VERSION:2.0
PRODID:Spatie calendar-links
BEGIN:VEVENT
UID:102552e4a5edc77b8a5819fb4838a316
SUMMARY:Boots on the ground - postering Point Grey
DTSTAMP;TZID=America/Los_Angeles:20230111T110000
DTSTART;TZID=America/Los_Angeles:20230111T110000
DTEND;TZID=America/Los_Angeles:20230111T140000
LOCATION:2909 W Broadway\, Vancouver\, BC\, Canada
END:VEVENT
END:VCALENDAR