BEGIN:VCALENDAR
VERSION:2.0
PRODID:Spatie calendar-links
BEGIN:VEVENT
UID:e347f0eae05a7861e448b35d85ee1530
SUMMARY:Bright News Light Live Panel: In the Era of Covid\, Who Can You Trust? 
DTSTAMP;TZID=America/Toronto:20230128T000000
DTSTART;TZID=America/Toronto:20230128T000000
DTEND;TZID=America/Toronto:20230128T000000
LOCATION:526  Concession St.\, Hamilton\, ON\, Canada
END:VEVENT
END:VCALENDAR