BEGIN:VCALENDAR
VERSION:2.0
PRODID:Spatie calendar-links
BEGIN:VEVENT
UID:55b33eb69c66917d7772a397b30b2faf
SUMMARY:Ontario wide flag wag honour our trukers
DTSTAMP;TZID=America/Cancun:20230128T110000
DTSTART;TZID=America/Cancun:20230128T110000
DTEND;TZID=America/Cancun:20230128T163000
END:VEVENT
END:VCALENDAR