BEGIN:VCALENDAR
VERSION:2.0
PRODID:Spatie calendar-links
BEGIN:VEVENT
UID:6054d5598ded9258b8b1112ea4be3b9c
SUMMARY:Charlottetown PEI - WORLDWIDE RALLY MARCH 20TH\, 2021
DTSTAMP;TZID=America/Toronto:20210320T120000
DTSTART;TZID=America/Toronto:20210320T120000
DTEND;TZID=America/Toronto:20210320T140000
LOCATION:Charlottetown\, PE\, Canada
END:VEVENT
END:VCALENDAR