BEGIN:VCALENDAR
VERSION:2.0
PRODID:Spatie calendar-links
BEGIN:VEVENT
UID:1f68aaf82f03126a09d27dfdce54654c
SUMMARY:Do No Harm Tour
DTSTAMP;TZID=America/New_York:20230128T120000
DTSTART;TZID=America/New_York:20230128T120000
DTEND;TZID=America/New_York:20230128T160000
LOCATION:1280 Dundas St W\, Oakville\, Ontario\, Canada
END:VEVENT
END:VCALENDAR