BEGIN:VCALENDAR
VERSION:2.0
PRODID:Spatie calendar-links
BEGIN:VEVENT
UID:0a767bd01052526106f13a220f5e7eb6
SUMMARY:Do No Harm Tour
DTSTAMP;TZID=America/New_York:20230129T150000
DTSTART;TZID=America/New_York:20230129T150000
DTEND;TZID=America/New_York:20230129T190000
LOCATION:3052 Walker Rd\, Windsor\, Ontario\, Canada
END:VEVENT
END:VCALENDAR