BEGIN:VCALENDAR
VERSION:2.0
PRODID:Spatie calendar-links
BEGIN:VEVENT
UID:8a8d2c050ec1e87b7b47aed6aa0029ba
SUMMARY:Justice for the Vaccinated - United Health Conference Fundraiser
DTSTAMP;TZID=Africa/Abidjan:20230204T090000
DTSTART;TZID=Africa/Abidjan:20230204T090000
DTEND;TZID=Africa/Abidjan:20230205T000000
LOCATION:123 Queen Street West - Sheraton Centre Toronto Hotel\, Toronto\, Ontario\, Canada
END:VEVENT
END:VCALENDAR