BEGIN:VCALENDAR
VERSION:2.0
PRODID:Spatie calendar-links
BEGIN:VEVENT
UID:eb73e4184c8c5951587c4631cc23e19b
SUMMARY:Justice for the Vaccinated - United Health Conference Fundraiser
DTSTAMP;TZID=America/New_York:20230204T000000
DTSTART;TZID=America/New_York:20230204T000000
DTEND;TZID=America/New_York:20230205T000000
LOCATION:Toronto\, Ontario\, Canada
END:VEVENT
END:VCALENDAR