BEGIN:VCALENDAR
VERSION:2.0
PRODID:Spatie calendar-links
BEGIN:VEVENT
UID:08100e5d822e019371e51d571fe8f98f
SUMMARY:Freedom Convoy Anniversary Celebration - Multiple Locations
DTSTAMP;TZID=America/Vancouver:20230128T000000
DTSTART;TZID=America/Vancouver:20230128T000000
DTEND;TZID=America/Vancouver:20230129T000000
LOCATION:Canada
END:VEVENT
END:VCALENDAR