BEGIN:VCALENDAR
VERSION:2.0
PRODID:Spatie calendar-links
BEGIN:VEVENT
UID:e8e470f3b2217dcfe10ecee5c07de4af
SUMMARY:What's Up Doc? Film Festival & Speakers Panel
DTSTAMP;TZID=America/Vancouver:20230201T133000
DTSTART;TZID=America/Vancouver:20230201T133000
DTEND;TZID=America/Vancouver:20230202T000000
LOCATION:2300 Bowen Rd - BEBAN PARK SOCIAL CENTRE LOUNGE\, Nanaimo\, BC\, Canada
END:VEVENT
END:VCALENDAR