BEGIN:VCALENDAR
VERSION:2.0
PRODID:Spatie calendar-links
BEGIN:VEVENT
UID:778b43fe9948e64f3d47871481ede13b
SUMMARY:What's Up Doc? Film Festival & Speakers Panel
DTSTAMP;TZID=America/Vancouver:20230204T120000
DTSTART;TZID=America/Vancouver:20230204T120000
DTEND;TZID=America/Vancouver:20230205T000000
LOCATION:108 Niagara St - VICTORIA EDELWEISS CLUB\, Victoria\, BC\, Canada
END:VEVENT
END:VCALENDAR