BEGIN:VCALENDAR
VERSION:2.0
PRODID:Spatie calendar-links
BEGIN:VEVENT
UID:450005ad92bcad755c3bf49e75164ff1
SUMMARY:Fellowship of the Awake
DTSTAMP;TZID=America/Vancouver:20230204T145500
DTSTART;TZID=America/Vancouver:20230204T145500
DTEND;TZID=America/Vancouver:20230204T171500
LOCATION:3650 Douglas Rd\, Burnaby\, BC\, Canada
END:VEVENT
END:VCALENDAR