BEGIN:VCALENDAR
VERSION:2.0
PRODID:Spatie calendar-links
BEGIN:VEVENT
UID:67cddedf315d3b341fa4b520faa04e28
SUMMARY:Calgary - WORLDWIDE RALLY MARCH 20TH\, 2021
DTSTAMP;TZID=America/Edmonton:20210320T130000
DTSTART;TZID=America/Edmonton:20210320T130000
DTEND;TZID=America/Edmonton:20210320T150000
LOCATION:698 Eau Claire Avenue Southwest\, Calgary\, AB\, Canada
END:VEVENT
END:VCALENDAR