BEGIN:VCALENDAR
VERSION:2.0
PRODID:Spatie calendar-links
BEGIN:VEVENT
UID:cf8af6df35b9baff24f275dbc52e56ba
SUMMARY:We Stand With Dr Jordan Peterson
DTSTAMP;TZID=America/Vancouver:20230203T140000
DTSTART;TZID=America/Vancouver:20230203T140000
DTEND;TZID=America/Vancouver:20230204T000000
LOCATION:110 Eglinton Ave W #500\, Toronto\, Ontario\, Canada
END:VEVENT
END:VCALENDAR