BEGIN:VCALENDAR
VERSION:2.0
PRODID:Spatie calendar-links
BEGIN:VEVENT
UID:5dc6fdc9d41f0ba76a968db3ac206e2e
SUMMARY:Cochrane - 15 Minute City Community Protest Event
DTSTAMP;TZID=America/Vancouver:20230209T170000
DTSTART;TZID=America/Vancouver:20230209T170000
DTEND;TZID=America/Vancouver:20230210T000000
LOCATION:101 Ranchehouse Rd\, Cochrane\, Alberta\, Canada
END:VEVENT
END:VCALENDAR