BEGIN:VCALENDAR
VERSION:2.0
PRODID:Spatie calendar-links
BEGIN:VEVENT
UID:07ab1eefed8ac257955fd12d0942cc45
SUMMARY:Vincent Gircys - Fundraiser and Dinner Dance 
DTSTAMP;TZID=America/New_York:20230304T173000
DTSTART;TZID=America/New_York:20230304T173000
DTEND;TZID=America/New_York:20230304T235900
LOCATION:2316 Fairview Street\, Burlington\, ON\, Canada
END:VEVENT
END:VCALENDAR