BEGIN:VCALENDAR
VERSION:2.0
PRODID:Spatie calendar-links
BEGIN:VEVENT
UID:5e187630121aabb3093c1743ee395bfd
SUMMARY:Bright News Light Live Panel #2 -April 6\, 2023
DTSTAMP;TZID=America/Toronto:20230406T010000
DTSTART;TZID=America/Toronto:20230406T010000
DTEND;TZID=America/Toronto:20230406T010000
LOCATION:400 Eglinton Avenue W.\, toronto\, ontario\, Canada
END:VEVENT
END:VCALENDAR