BEGIN:VCALENDAR
VERSION:2.0
PRODID:Spatie calendar-links
BEGIN:VEVENT
UID:dc1368c7c5f05ecb0a443ed26ef44a13
SUMMARY:The strategy for ensuring a Conservative Victory in May
DTSTAMP;TZID=America/Edmonton:20230217T000000
DTSTART;TZID=America/Edmonton:20230217T000000
DTEND;TZID=America/Edmonton:20230217T000000
LOCATION:946 9 Avenue South\, Lethbridge\, AB\, Canada
END:VEVENT
END:VCALENDAR