BEGIN:VCALENDAR
VERSION:2.0
PRODID:Spatie calendar-links
BEGIN:VEVENT
UID:f6b82b498ad582f79c9c4284f4a5d5f2
SUMMARY:David Parker Presents
DTSTAMP;TZID=America/Edmonton:20230216T000000
DTSTART;TZID=America/Edmonton:20230216T000000
DTEND;TZID=America/Edmonton:20230216T000000
LOCATION:96187 Spruce Meadows Green SW\, Calgary\, AB\, Canada
END:VEVENT
END:VCALENDAR