BEGIN:VCALENDAR
VERSION:2.0
PRODID:Spatie calendar-links
BEGIN:VEVENT
UID:71fe00d9100e84f790833a5508ab791b
SUMMARY:David Parker from Taking Back Alberta
DTSTAMP;TZID=America/Edmonton:20230223T000000
DTSTART;TZID=America/Edmonton:20230223T000000
DTEND;TZID=America/Edmonton:20230223T000000
LOCATION:50 Spruce Avenue\, Sherwood Park\, AB\, Canada
END:VEVENT
END:VCALENDAR