BEGIN:VCALENDAR
VERSION:2.0
PRODID:Spatie calendar-links
BEGIN:VEVENT
UID:3f66af40689b819953105fa13ea5ed71
SUMMARY:David Parker from Taking Back Alberta
DTSTAMP;TZID=America/Edmonton:20230216T000000
DTSTART;TZID=America/Edmonton:20230216T000000
DTEND;TZID=America/Edmonton:20230216T000000
LOCATION:96187 Spruce Meadows Green SW\, Calgary\, AB\, Canada
END:VEVENT
END:VCALENDAR