BEGIN:VCALENDAR
VERSION:2.0
PRODID:Spatie calendar-links
BEGIN:VEVENT
UID:3ab733a1f5a7f93c27881be658162163
SUMMARY:Premier Eby Under Recall - The Media is the Virus Returns
DTSTAMP;TZID=America/Los_Angeles:20230318T130000
DTSTART;TZID=America/Los_Angeles:20230318T130000
DTEND;TZID=America/Los_Angeles:20230318T170000
LOCATION:969 Robson Street\, Vancouver\, BC\, Canada
END:VEVENT
END:VCALENDAR