BEGIN:VCALENDAR
VERSION:2.0
PRODID:Spatie calendar-links
BEGIN:VEVENT
UID:c6f36d635b92557dfe623c8ab8e14a0f
SUMMARY:Ottawa - Family Fun Day 
DTSTAMP;TZID=America/Toronto:20210327T120000
DTSTART;TZID=America/Toronto:20210327T120000
DTEND;TZID=America/Toronto:20210327T160000
LOCATION:Ottawa\, ON\, Canada
END:VEVENT
END:VCALENDAR