BEGIN:VCALENDAR
VERSION:2.0
PRODID:Spatie calendar-links
BEGIN:VEVENT
UID:1b3507207f1ab8d46535a2813c941d23
SUMMARY:One Year Anniversary
DTSTAMP;TZID=America/Edmonton:20230225T173000
DTSTART;TZID=America/Edmonton:20230225T173000
DTEND;TZID=America/Edmonton:20230226T000000
LOCATION:14830 118 Avenue \, Edmonton\, AB\, Canada
END:VEVENT
END:VCALENDAR