BEGIN:VCALENDAR
VERSION:2.0
PRODID:Spatie calendar-links
BEGIN:VEVENT
UID:4aaec7a34dbefe6c1791d4e52b1c284c
SUMMARY:David Parker Presents - Taking Back Alberta
DTSTAMP;TZID=America/Edmonton:20230226T170000
DTSTART;TZID=America/Edmonton:20230226T170000
DTEND;TZID=America/Edmonton:20230226T220000
LOCATION:7007 11 Street SE\, Calgary\, AB\, Canada
END:VEVENT
END:VCALENDAR