BEGIN:VCALENDAR
VERSION:2.0
PRODID:Spatie calendar-links
BEGIN:VEVENT
UID:2a2b05af2202af93805cb5d7c810baaf
SUMMARY:Nano-Detox Workshop
DTSTAMP;TZID=America/Vancouver:20230225T090000
DTSTART;TZID=America/Vancouver:20230225T090000
DTEND;TZID=America/Vancouver:20230225T130000
END:VEVENT
END:VCALENDAR