BEGIN:VCALENDAR
VERSION:2.0
PRODID:Spatie calendar-links
BEGIN:VEVENT
UID:319563405412ad60318aa02508daacb9
SUMMARY:Let's Talk Truth WEF/Globalist agenda
DTSTAMP;TZID=America/Edmonton:20230304T090000
DTSTART;TZID=America/Edmonton:20230304T090000
DTEND;TZID=America/Edmonton:20230304T180000
LOCATION:6402 1A Street SW\, Calgary\, Alberta\, Canada
END:VEVENT
END:VCALENDAR