BEGIN:VCALENDAR
VERSION:2.0
PRODID:Spatie calendar-links
BEGIN:VEVENT
UID:457e1614da256b7e3485a2aabd41416e
SUMMARY:Let's Talk Truth Covid
DTSTAMP;TZID=America/Edmonton:20230324T190000
DTSTART;TZID=America/Edmonton:20230324T190000
DTEND;TZID=America/Edmonton:20230324T220000
LOCATION:2055  21 Avenue SE\, Medicine Hat\, Alberta\, Canada
END:VEVENT
END:VCALENDAR