BEGIN:VCALENDAR
VERSION:2.0
PRODID:Spatie calendar-links
BEGIN:VEVENT
UID:41c8883b444372fb7a880f098438e1f7
SUMMARY:Alberta's Strong Independent Women
DTSTAMP;TZID=America/Edmonton:20230308T183000
DTSTART;TZID=America/Edmonton:20230308T183000
DTEND;TZID=America/Edmonton:20230308T213000
LOCATION:5940 Blackfoot Trail SE\, Calgary\, Alberta\, Canada
END:VEVENT
END:VCALENDAR