BEGIN:VCALENDAR
VERSION:2.0
PRODID:Spatie calendar-links
BEGIN:VEVENT
UID:dfc5f843e2b464730dc2b583b581f358
SUMMARY:Thrival of the Wisest - IMMUNITY\, ENERGY\, CLARITY & SLEEP: THRIVAL OF THE WISEST WITH SHERRY STRONG - MARCH 5TH
DTSTAMP;TZID=America/Edmonton:20230305T130000
DTSTART;TZID=America/Edmonton:20230305T130000
DTEND;TZID=America/Edmonton:20230305T170000
LOCATION:NW Calgary\, \, Alberta\, Canada
END:VEVENT
END:VCALENDAR