BEGIN:VCALENDAR
VERSION:2.0
PRODID:Spatie calendar-links
BEGIN:VEVENT
UID:745829229d6c9fcc16a57ce922d7c2d5
SUMMARY:Vancouver - WORLDWIDE RALLY MARCH 20TH\, 2021
DTSTAMP;TZID=America/Toronto:20210320T120000
DTSTART;TZID=America/Toronto:20210320T120000
DTEND;TZID=America/Toronto:20210320T150000
LOCATION:750 Hornby Street\, Vancouver\, BC\, Canada
END:VEVENT
END:VCALENDAR