BEGIN:VCALENDAR
VERSION:2.0
PRODID:Spatie calendar-links
BEGIN:VEVENT
UID:00cf8236ec5cc6cde4f8a0bb19369ff0
SUMMARY:In the Line of Fire - The Irreplaceable Parent Project 
DTSTAMP;TZID=America/Edmonton:20230304T190000
DTSTART;TZID=America/Edmonton:20230304T190000
DTEND;TZID=America/Edmonton:20230304T213000
LOCATION:445 King Street \, Spruce Grove \, Alberta\, Canada
END:VEVENT
END:VCALENDAR