BEGIN:VCALENDAR
VERSION:2.0
PRODID:Spatie calendar-links
BEGIN:VEVENT
UID:39f5d02411ff290162d68e82ed52059b
SUMMARY:Solutions 4 Changing Times
DTSTAMP;TZID=America/Toronto:20230318T131500
DTSTART;TZID=America/Toronto:20230318T131500
DTEND;TZID=America/Toronto:20230318T180000
LOCATION:420 Crerar Dr.\, Hamilton\, ON\, Canada
END:VEVENT
END:VCALENDAR