BEGIN:VCALENDAR
VERSION:2.0
PRODID:Spatie calendar-links
BEGIN:VEVENT
UID:c851764b534a82d9275356f7a883ddff
SUMMARY:CFC meeting March 6
DTSTAMP;TZID=America/Los_Angeles:20230302T190000
DTSTART;TZID=America/Los_Angeles:20230302T190000
DTEND;TZID=America/Los_Angeles:20230306T210000
LOCATION:22610 116th Avenue\, Maple Ridge\, BC\, Canada
END:VEVENT
END:VCALENDAR