BEGIN:VCALENDAR
VERSION:2.0
PRODID:Spatie calendar-links
BEGIN:VEVENT
UID:471f6fa4a1fbb36f618cc9b681f909b8
SUMMARY:David Parker Presents Taking Back Alberta
DTSTAMP;TZID=America/Edmonton:20230308T200000
DTSTART;TZID=America/Edmonton:20230308T200000
DTEND;TZID=America/Edmonton:20230308T220000
LOCATION:163054 Twp Rd 9-2\, Taber\, AB\, Canada
END:VEVENT
END:VCALENDAR