BEGIN:VCALENDAR
VERSION:2.0
PRODID:Spatie calendar-links
BEGIN:VEVENT
UID:197be5e666b1d82bf96dbaeb353d5ea4
SUMMARY:David Parker from Taking Back Alberta
DTSTAMP;TZID=America/Edmonton:20230308T173000
DTSTART;TZID=America/Edmonton:20230308T173000
DTEND;TZID=America/Edmonton:20230308T193000
LOCATION:91043 Range Road 204\, Lethbridge\, AB\, Canada
END:VEVENT
END:VCALENDAR