BEGIN:VCALENDAR
VERSION:2.0
PRODID:Spatie calendar-links
BEGIN:VEVENT
UID:439faee372bcf10fb0571deeede6899f
SUMMARY:David Parker Presents Taking Back Alberta
DTSTAMP;TZID=America/Edmonton:20230309T173000
DTSTART;TZID=America/Edmonton:20230309T173000
DTEND;TZID=America/Edmonton:20230309T203000
LOCATION:5920 93A Avenue NW\, Edmonton\, AB\, Canada
END:VEVENT
END:VCALENDAR