BEGIN:VCALENDAR
VERSION:2.0
PRODID:Spatie calendar-links
BEGIN:VEVENT
UID:04342196b6873a2a9f053acfe1b10975
SUMMARY:David Parker Presents - Taking Back Alberta
DTSTAMP;TZID=America/Edmonton:20230310T190000
DTSTART;TZID=America/Edmonton:20230310T190000
DTEND;TZID=America/Edmonton:20230310T210000
LOCATION:4105 Montgomery View NW\, Calgary\, AB\, Canada
END:VEVENT
END:VCALENDAR