BEGIN:VCALENDAR
VERSION:2.0
PRODID:Spatie calendar-links
BEGIN:VEVENT
UID:78b2ef940cb8e27949f15a1d907655b4
SUMMARY:Fellowship of the Awake
DTSTAMP;TZID=America/Los_Angeles:20230318T150000
DTSTART;TZID=America/Los_Angeles:20230318T150000
DTEND;TZID=America/Los_Angeles:20230318T170000
END:VEVENT
END:VCALENDAR